BEGIN:VCALENDAR
VERSION:2.0
PRODID:-//Britmax International School - ECPv6.15.18//NONSGML v1.0//EN
CALSCALE:GREGORIAN
METHOD:PUBLISH
X-ORIGINAL-URL:https://britmaxschool.org
X-WR-CALDESC:Events for Britmax International School
REFRESH-INTERVAL;VALUE=DURATION:PT1H
X-Robots-Tag:noindex
X-PUBLISHED-TTL:PT1H
BEGIN:VTIMEZONE
TZID:Africa/Lagos
BEGIN:STANDARD
TZOFFSETFROM:+0100
TZOFFSETTO:+0100
TZNAME:WAT
DTSTART:20240101T000000
END:STANDARD
END:VTIMEZONE
BEGIN:VEVENT
DTSTART;TZID=Africa/Lagos:20250909T080000
DTEND;TZID=Africa/Lagos:20250909T170000
DTSTAMP:20260422T124752
CREATED:20250821T144649Z
LAST-MODIFIED:20250821T145930Z
UID:886-1757404800-1757437200@britmaxschool.org
SUMMARY:Resumption Date\, 2025
DESCRIPTION:
URL:https://britmaxschool.org/event/resumption-date-2025/
LOCATION:Britmax International School\, Plot S1\, S2\, Jubilation Bethel Estate\, Lokogoma\, Abuja\, Nigeria
ATTACH;FMTTYPE=image/png:https://britmaxschool.org/wp-content/uploads/2025/08/Resumption_Date.png
ORGANIZER;CN="Britmax International School":MAILTO:info@britmaxschool.org
END:VEVENT
BEGIN:VEVENT
DTSTART;VALUE=DATE:20250821
DTEND;VALUE=DATE:20250910
DTSTAMP:20260422T124752
CREATED:20250821T144935Z
LAST-MODIFIED:20250821T144935Z
UID:889-1755734400-1757462399@britmaxschool.org
SUMMARY:Admission in Progress
DESCRIPTION:
URL:https://britmaxschool.org/event/admission-in-progress/
LOCATION:Britmax International School\, Plot S1\, S2\, Jubilation Bethel Estate\, Lokogoma\, Abuja\, Nigeria
ATTACH;FMTTYPE=image/png:https://britmaxschool.org/wp-content/uploads/2025/08/Admissions.png
ORGANIZER;CN="Britmax International School":MAILTO:info@britmaxschool.org
END:VEVENT
END:VCALENDAR